BEGIN:VCALENDAR
VERSION:2.0
PRODID:-//JBO Kürnach - ECPv6.15.18//NONSGML v1.0//EN
CALSCALE:GREGORIAN
METHOD:PUBLISH
X-WR-CALNAME:JBO Kürnach
X-ORIGINAL-URL:https://jbo-kuernach.de
X-WR-CALDESC:Veranstaltungen für JBO Kürnach
REFRESH-INTERVAL;VALUE=DURATION:PT1H
X-Robots-Tag:noindex
X-PUBLISHED-TTL:PT1H
BEGIN:VTIMEZONE
TZID:Europe/Berlin
BEGIN:DAYLIGHT
TZOFFSETFROM:+0100
TZOFFSETTO:+0200
TZNAME:CEST
DTSTART:20250330T010000
END:DAYLIGHT
BEGIN:STANDARD
TZOFFSETFROM:+0200
TZOFFSETTO:+0100
TZNAME:CET
DTSTART:20251026T010000
END:STANDARD
BEGIN:DAYLIGHT
TZOFFSETFROM:+0100
TZOFFSETTO:+0200
TZNAME:CEST
DTSTART:20260329T010000
END:DAYLIGHT
BEGIN:STANDARD
TZOFFSETFROM:+0200
TZOFFSETTO:+0100
TZNAME:CET
DTSTART:20261025T010000
END:STANDARD
BEGIN:DAYLIGHT
TZOFFSETFROM:+0100
TZOFFSETTO:+0200
TZNAME:CEST
DTSTART:20270328T010000
END:DAYLIGHT
BEGIN:STANDARD
TZOFFSETFROM:+0200
TZOFFSETTO:+0100
TZNAME:CET
DTSTART:20271031T010000
END:STANDARD
END:VTIMEZONE
BEGIN:VEVENT
DTSTART;TZID=Europe/Berlin:20260425T190000
DTEND;TZID=Europe/Berlin:20260425T210000
DTSTAMP:20260424T163450
CREATED:20251227T103552Z
LAST-MODIFIED:20260311T075551Z
UID:2794-1777143600-1777150800@jbo-kuernach.de
SUMMARY:Frühlingskonzert in der MZH
DESCRIPTION:Symphonisches Blasorchester \n\n\n\n\n\n\n\n\n\nDas Symphonische Blasorchester Kürnach lädt herzlich zu seinem diesjährigen Frühjahrskonzert unter dem Titel „Never give up“ ein. Dieses besondere Event findet am Samstag\, den 25. April 2026\, um 19:30 Uhr in der Höllberghalle in Kürnach statt. \n\n\n\nUnter der Leitung von Christian Lang erwartet die Besucher ein abwechslungsreiches Programm\, das Werke aus verschiedenen Genres umfasst – von Originalkompositionen bis hin zu beliebten Musical- und Pop-Melodien. Freuen Sie sich auf eine musikalische Reise\, die die unvergesslichen Hits des King of Pop\, Michael Jackson\, ebenso präsentiert wie zauberhafte Melodien aus Disney-Filmen. \n\n\n\nDas Konzert wird auch eine musikalische Beschreibung des ewigen Kampfes zwischen Gut und Böse bieten und Themen aufgreifen\, die von Träumen und Fantasie handeln. Besonders hervorzuheben ist\, dass der Titel des Konzerts das Motto einer Stiftung für Krebsforschung ist. Diese Stiftung hat nicht nur Inspiration für ein Werk geliefert\, sondern symbolisiert auch den unermüdlichen Kampf und die Hoffnung\, die sowohl in der Musik als auch im Leben präsent sind. \n\n\n\nDer Abend verspricht eine Fülle an fantastischen Geschichten\, verträumten und majestätischen Klängen sowie mitreißenden Melodien\, die die Zuhörer in ihren Bann ziehen werden. Seien Sie Teil eines fulminanten Konzertabends\, der sowohl Rückblicke auf schwere Zeiten in Europa als auch Ausblicke auf Hoffnung und Zuversicht bietet. Lassen Sie uns gemeinsam die Freude an der Musik feiern! \n\n\n\nWir freuen uns auf Ihr Kommen!
URL:https://jbo-kuernach.de/event/fruehlingskonzert-in-der-mzh/
LOCATION:Höllberghalle Kürnach\, Am Trieb\, Kürnach\, Bayern\, 97273\, Deutschland
CATEGORIES:Symphonisches Blasorchester
END:VEVENT
END:VCALENDAR